BEGIN:VCALENDAR
PRODID:-//eluceo/ical//2.0/EN
VERSION:2.0
CALSCALE:GREGORIAN
BEGIN:VEVENT
UID:event-198
DTSTAMP:20260424T130503Z
SUMMARY:JFR-Skireis
DESCRIPTION:11 t/m 15 januari aankomend jaar is het eindelijk zo ver. D
 e JFR-Skireis! Met een eigen bijdrage van €369\,- kan jij ook mee op d
 eze onvergetelijke Skireis! Deze prijs is inclusief skipas en exclusief ma
 teriaal.  Het belooft een onvergetelijke reis te worden. Wij kunnen niet 
 wachten om jullie mee te nemen naar het mooie gebied La Plagne waar wij o
 neindig veel ski/snowboard plezier zullen beleven. Inschrijven kan vanaf 1
 1 oktober vanaf 12:00 uur door een mail te sturen naar Daan via intern@j
 fr.nl
DTSTART:20240111T150000Z
DTEND:20240115T110000Z
LOCATION:La Plagne Bellecôte
END:VEVENT
BEGIN:VTIMEZONE
TZID:UTC
BEGIN:STANDARD
DTSTART:20240111T150000
TZNAME:UTC
TZOFFSETTO:+0000
TZOFFSETFROM:+0000
END:STANDARD
END:VTIMEZONE
END:VCALENDAR
