BEGIN:VCALENDAR
PRODID:-//eluceo/ical//2.0/EN
VERSION:2.0
CALSCALE:GREGORIAN
BEGIN:VEVENT
UID:event-221
DTSTAMP:20260424T172106Z
SUMMARY:Studiegroep shift I
DESCRIPTION:Lieve eerstejaars\, Hulp nodig bij het studeren voor Inleiding 
 Strafrecht? Meld je dan nu aan voor de studiegroepen! Tijdens deze studie
 groepen zal een ouderejaarsstudent nog eens alle pijnpunten van de stof be
 handelen en handige tips geven voor je tentamen. Let op: de studiegroepen 
 bestaan uit twee shifts: Shift 1 is op dinsdag 5 december voor probleem 1
 -4 en bijpassende hoorcolleges (hiervoor kun je je hieronder aanmelden) e
 n shift 2 (probleem 5-7) zal op dinsdag 12 december plaatsvinden. Aanmeld
 en mag voor allebei de shifts\, maar je kan je natuurlijk ook voor een en
 kele shift aanmelden.  Let op \, vol = vol!
DTSTART:20231205T110000Z
DTEND:20231205T123000Z
LOCATION:Erasmus Universiteit Rotterdam
END:VEVENT
BEGIN:VTIMEZONE
TZID:UTC
BEGIN:STANDARD
DTSTART:20231205T110000
TZNAME:UTC
TZOFFSETTO:+0000
TZOFFSETFROM:+0000
END:STANDARD
END:VTIMEZONE
END:VCALENDAR
