BEGIN:VCALENDAR
PRODID:-//eluceo/ical//2.0/EN
VERSION:2.0
CALSCALE:GREGORIAN
BEGIN:VEVENT
UID:event-237
DTSTAMP:20260425T163735Z
SUMMARY:Halfjaarlijkse  Algemene Ledenvergadering
DESCRIPTION:Op donderdag 15 februari 2024 vanaf 18:00 uur (inloop 17:30 u
 ur) vindt de Halfjaarlijkse Algemene Ledenvergadering (HALV) der JFR plaat
 s! In deze vergadering horen we graag wat jullie vinden van de afgelopen p
 eriode en de koers van onze vereniging. Door jullie stem te laten horen t
 ijdens de HALV helpen jullie mee onze gezamenlijke doelen te bereiken. De
  aanwezigheid van de leden is van grote waarde voor de JFR! Vragen of op
 merkingen over de HALV kunnen worden ingediend via het e-mailadres alv
 @jfr.nl.
DTSTART:20240215T163000Z
DTEND:20240215T225959Z
LOCATION:Erasmus Universiteit Rotterdam
END:VEVENT
BEGIN:VTIMEZONE
TZID:UTC
BEGIN:STANDARD
DTSTART:20240215T163000
TZNAME:UTC
TZOFFSETTO:+0000
TZOFFSETFROM:+0000
END:STANDARD
END:VTIMEZONE
END:VCALENDAR
