BEGIN:VCALENDAR
PRODID:-//eluceo/ical//2.0/EN
VERSION:2.0
CALSCALE:GREGORIAN
BEGIN:VEVENT
UID:event-285
DTSTAMP:20260421T083643Z
SUMMARY:Landelijk voetbaltoernooi
DESCRIPTION:Voor de allereerste keer ooit organiseren meerdere Juridische F
 aculteitsverenigingen in het land samen een evenement! Op 5 april 2024 zal
  het Landelijke Voetbaltoernooi plaats vinden. Iedere vereniging levert tw
 ee teams aan en strijdt om de velbegeerde eerste plaats 🏆. Voor een eig
 en bijdrage van slechts €5\,- ben jij erbij en ontvang je ook 3 consumpt
 iemunten. Om verzekerd te zijn van een plekje bij deze eerste editie van d
 it toernooi\, kun je je vanaf 8 maart aanmelden op de website van jouw ver
 eniging! Loop deze kans niet mis\, want vol = vol!  Praktische informatie
  Locatie: Voetbalvereniging Odin (Utrecht) Datum: Vrijdag 5 april Tijd: 1
 3.30 - 21.00
DTSTART:20240405T113000Z
DTEND:20240405T190000Z
LOCATION:Utrecht 
END:VEVENT
BEGIN:VTIMEZONE
TZID:UTC
BEGIN:STANDARD
DTSTART:20240405T113000
TZNAME:UTC
TZOFFSETTO:+0000
TZOFFSETFROM:+0000
END:STANDARD
END:VTIMEZONE
END:VCALENDAR
