BEGIN:VCALENDAR
PRODID:-//eluceo/ical//2.0/EN
VERSION:2.0
CALSCALE:GREGORIAN
BEGIN:VEVENT
UID:event-323
DTSTAMP:20260421T084412Z
SUMMARY:Introweekend 
DESCRIPTION:Attentie eerstejaars! Sta klaar voor een spetterende start van 
 je studietijd! Ons introweekend komt eraan en dit wil je niet missen! Van 
 20 tot 22 september zullen we met 60 studenten verblijven in het prachtige
  Noorbeek in Limburg. Leer je medestudenten beter kennen en ontdek wat on
 ze vereniging te bieden heeft! Start het weekend met ons denderende thema
 feest en show je beste dansmoves. Warm je stem op en sta klaar om jouw jur
 idische skills op de proef te stellen met onze pleitworkshop! Sluit het we
 ekend af met een voorproefje van het studentenleven op onze cantus en sta
  klaar om te zingen\, lachen en proosten. We kijken ernaar uit om met jou 
 op avontuur te gaan!  Zorg dus dat jij er bij bent en schrijf je snel in
 \, want dit is een weekend dat je nooit zal vergeten! 
DTSTART:20240920T110000Z
DTEND:20240922T130000Z
LOCATION:Hoeve de Peul
END:VEVENT
BEGIN:VTIMEZONE
TZID:UTC
BEGIN:STANDARD
DTSTART:20240920T110000
TZNAME:UTC
TZOFFSETTO:+0000
TZOFFSETFROM:+0000
END:STANDARD
END:VTIMEZONE
END:VCALENDAR
