BEGIN:VCALENDAR
PRODID:-//eluceo/ical//2.0/EN
VERSION:2.0
CALSCALE:GREGORIAN
BEGIN:VEVENT
UID:event-56
DTSTAMP:20260424T060805Z
SUMMARY:JFR-Skireis
DESCRIPTION:De skireis vindt komend jaar plaats van 5 t/m 9 januari. Met ee
 n eigen bijdrage van €319\,- ben jij er bij! Deze prijs is inclusief ski
 pas en exclusief materiaal.  Het belooft een onvergetelijke reis te worde
 n. Wij kunnen niet wachten om jullie mee te nemen naar het mooie Risoul wa
 ar wij oneindig veel ski/snowboard plezier zullen beleven. Inschrijven kan
  door een mail te sturen naar Lotte via intern@jfr.nl
DTSTART:20230105T150000Z
DTEND:20230109T110000Z
LOCATION:Risoul
END:VEVENT
BEGIN:VTIMEZONE
TZID:UTC
BEGIN:STANDARD
DTSTART:20230105T150000
TZNAME:UTC
TZOFFSETTO:+0000
TZOFFSETFROM:+0000
END:STANDARD
END:VTIMEZONE
END:VCALENDAR
