BEGIN:VCALENDAR
PRODID:-//eluceo/ical//2.0/EN
VERSION:2.0
CALSCALE:GREGORIAN
BEGIN:VEVENT
UID:event-561
DTSTAMP:20260420T061117Z
SUMMARY:Eerstejaars Kantoorbezoek: Loyens & Loeff
DESCRIPTION:Beste Eerstejaars\, Ben jij geïnteresseerd in fiscaal recht en
  wil jij meer te weten komen over wat dit vak jou in de toekomst te bieden
  heeft? Meld je dan aan voor het kantoorbezoek naar Loyens &amp\; Loeff! D
 it bezoek is voor studenten een mooie gelegenheid om een beter beeld te kr
 ijgen van het werkveld in de fiscale praktijk en van de wekzaamheden binne
 n een kantoor als Loyens &amp\; Loeff. Het bezoek vindt plaats op dinsdag 
 12 mei van 14:00 uur tot 17:00 uur.  Schrijf je snel in!
DTSTART:20260512T120000Z
DTEND:20260512T150000Z
LOCATION:Loyens & Loeff
END:VEVENT
BEGIN:VTIMEZONE
TZID:UTC
BEGIN:STANDARD
DTSTART:20260512T120000
TZNAME:UTC
TZOFFSETTO:+0000
TZOFFSETFROM:+0000
END:STANDARD
END:VTIMEZONE
END:VCALENDAR
