BEGIN:VCALENDAR
PRODID:-//eluceo/ical//2.0/EN
VERSION:2.0
CALSCALE:GREGORIAN
BEGIN:VEVENT
UID:event-562
DTSTAMP:20260420T055901Z
SUMMARY:Bestuursbekendmakingsborrel - 64e Bestuur
DESCRIPTION:Lieve leden\, 13 mei is het alweer zover. Het 64e bestuur der
  JFR wordt bekendgemaakt! Wil jij als een van de eerste weten wie er het 
 volgende collegejaar onze vereniging gaan besturen? Meld je dan snel aan! 
 Om 20:00 uur begint de borrel bij Café in de Smitse en om 21.30 uur wordt
  het nieuwe Bestuur bekendgemaakt\, dus wees op tijd om bij de bekendmakin
 g te zijn! Tot dan! Liefs\, Het 63e Bestuur
DTSTART:20260513T180000Z
DTEND:20260513T215900Z
LOCATION:Café In de Smitse
END:VEVENT
BEGIN:VTIMEZONE
TZID:UTC
BEGIN:STANDARD
DTSTART:20260513T180000
TZNAME:UTC
TZOFFSETTO:+0000
TZOFFSETFROM:+0000
END:STANDARD
END:VTIMEZONE
END:VCALENDAR
